BEGIN:VCALENDAR
VERSION:2.0
PRODID:-//Blue Clover Eventing - ECPv5.16.1.1//NONSGML v1.0//EN
CALSCALE:GREGORIAN
METHOD:PUBLISH
X-WR-CALNAME:Blue Clover Eventing
X-ORIGINAL-URL:https://www.blueclovereventing.com
X-WR-CALDESC:Events for Blue Clover Eventing
BEGIN:VTIMEZONE
TZID:UTC
BEGIN:STANDARD
TZOFFSETFROM:+0000
TZOFFSETTO:+0000
TZNAME:UTC
DTSTART:20240101T000000
END:STANDARD
END:VTIMEZONE
BEGIN:VEVENT
DTSTART;VALUE=DATE:20240810
DTEND;VALUE=DATE:20240812
DTSTAMP:20260423T234233
CREATED:20240506T161315Z
LAST-MODIFIED:20240506T161315Z
UID:27244-1723248000-1723420799@www.blueclovereventing.com
SUMMARY:Fair Hill International H.T.
DESCRIPTION:
URL:https://www.blueclovereventing.com/event/fair-hill-international-h-t/
LOCATION:Fair Hill International\, 378 Fair Hill Dr\, Elkton\, MD\, 21921\, United States
CATEGORIES:Competitions
END:VEVENT
END:VCALENDAR