BEGIN:VCALENDAR
VERSION:2.0
PRODID:-//Blue Clover Eventing - ECPv5.16.1.1//NONSGML v1.0//EN
CALSCALE:GREGORIAN
METHOD:PUBLISH
X-WR-CALNAME:Blue Clover Eventing
X-ORIGINAL-URL:https://www.blueclovereventing.com
X-WR-CALDESC:Events for Blue Clover Eventing
BEGIN:VTIMEZONE
TZID:UTC
BEGIN:STANDARD
TZOFFSETFROM:+0000
TZOFFSETTO:+0000
TZNAME:UTC
DTSTART:20220101T000000
END:STANDARD
END:VTIMEZONE
BEGIN:VEVENT
DTSTART;VALUE=DATE:20220401
DTEND;VALUE=DATE:20220404
DTSTAMP:20260425T120918
CREATED:20211230T233100Z
LAST-MODIFIED:20211230T233100Z
UID:27023-1648771200-1649030399@www.blueclovereventing.com
SUMMARY:Stable View Spring 2/3/4*
DESCRIPTION:
URL:https://www.blueclovereventing.com/event/stable-view-spring-2-3-4/
LOCATION:Stable View\, 117 Stable Dr\, Aiken\, SC\, 29801\, United States
CATEGORIES:Competitions
END:VEVENT
END:VCALENDAR