BEGIN:VCALENDAR
VERSION:2.0
PRODID:-//Blue Clover Eventing - ECPv5.16.1.1//NONSGML v1.0//EN
CALSCALE:GREGORIAN
METHOD:PUBLISH
X-WR-CALNAME:Blue Clover Eventing
X-ORIGINAL-URL:https://www.blueclovereventing.com
X-WR-CALDESC:Events for Blue Clover Eventing
BEGIN:VTIMEZONE
TZID:UTC
BEGIN:STANDARD
TZOFFSETFROM:+0000
TZOFFSETTO:+0000
TZNAME:UTC
DTSTART:20220101T000000
END:STANDARD
END:VTIMEZONE
BEGIN:VEVENT
DTSTART;VALUE=DATE:20220323
DTEND;VALUE=DATE:20220328
DTSTAMP:20260425T133550
CREATED:20211230T232718Z
LAST-MODIFIED:20211230T232718Z
UID:27018-1647993600-1648425599@www.blueclovereventing.com
SUMMARY:Carolina International CCI & H.T.
DESCRIPTION:
URL:https://www.blueclovereventing.com/event/carolina-international-cci-h-t/
LOCATION:Carolina Horse Park\, 2814 Montrose Rd\, Raeford\, NC\, 28376\, United States
CATEGORIES:Competitions
END:VEVENT
BEGIN:VEVENT
DTSTART;VALUE=DATE:20220325
DTEND;VALUE=DATE:20220328
DTSTAMP:20260425T133550
CREATED:20211230T232919Z
LAST-MODIFIED:20211230T232919Z
UID:27020-1648166400-1648425599@www.blueclovereventing.com
SUMMARY:March Horse Trials at Majestic Oaks
DESCRIPTION:
URL:https://www.blueclovereventing.com/event/march-horse-trials-at-majestic-oaks/
LOCATION:Majestic Oaks Ocala\, 17500 N US Hwy 441\, Reddick\, FL\, 32686\, United States
CATEGORIES:Competitions
END:VEVENT
END:VCALENDAR