BEGIN:VCALENDAR
VERSION:2.0
PRODID:-//Blue Clover Eventing - ECPv5.16.1.1//NONSGML v1.0//EN
CALSCALE:GREGORIAN
METHOD:PUBLISH
X-WR-CALNAME:Blue Clover Eventing
X-ORIGINAL-URL:https://www.blueclovereventing.com
X-WR-CALDESC:Events for Blue Clover Eventing
BEGIN:VTIMEZONE
TZID:UTC
BEGIN:STANDARD
TZOFFSETFROM:+0000
TZOFFSETTO:+0000
TZNAME:UTC
DTSTART:20220101T000000
END:STANDARD
END:VTIMEZONE
BEGIN:VEVENT
DTSTART;VALUE=DATE:20220210
DTEND;VALUE=DATE:20220214
DTSTAMP:20260425T143635
CREATED:20211230T231817Z
LAST-MODIFIED:20211230T231817Z
UID:27004-1644451200-1644796799@www.blueclovereventing.com
SUMMARY:Ocala Winter I Horse Trials
DESCRIPTION:
URL:https://www.blueclovereventing.com/event/ocala-winter-i-horse-trials/
LOCATION:Florida Horse Park\, 11008 South Hwy 475\, Ocala\, FL\, 34480\, United States
CATEGORIES:Competitions
END:VEVENT
END:VCALENDAR