BEGIN:VCALENDAR
VERSION:2.0
PRODID:-//Blue Clover Eventing - ECPv5.16.1.1//NONSGML v1.0//EN
CALSCALE:GREGORIAN
METHOD:PUBLISH
X-WR-CALNAME:Blue Clover Eventing
X-ORIGINAL-URL:https://www.blueclovereventing.com
X-WR-CALDESC:Events for Blue Clover Eventing
BEGIN:VTIMEZONE
TZID:UTC
BEGIN:STANDARD
TZOFFSETFROM:+0000
TZOFFSETTO:+0000
TZNAME:UTC
DTSTART:20210101T000000
END:STANDARD
END:VTIMEZONE
BEGIN:VEVENT
DTSTART;VALUE=DATE:20210831
DTEND;VALUE=DATE:20210906
DTSTAMP:20260425T215558
CREATED:20210708T175004Z
LAST-MODIFIED:20210708T175004Z
UID:26970-1630368000-1630886399@www.blueclovereventing.com
SUMMARY:American Eventing Championships
DESCRIPTION:
URL:https://www.blueclovereventing.com/event/american-eventing-championships-2/
LOCATION:Kentucky Horse Park\, 4089 Iron Works Pkwy\, Lexington\, KY\, 40511\, United States
CATEGORIES:Competitions
END:VEVENT
END:VCALENDAR