BEGIN:VCALENDAR
VERSION:2.0
PRODID:-//Blue Clover Eventing - ECPv5.16.1.1//NONSGML v1.0//EN
CALSCALE:GREGORIAN
METHOD:PUBLISH
X-WR-CALNAME:Blue Clover Eventing
X-ORIGINAL-URL:https://www.blueclovereventing.com
X-WR-CALDESC:Events for Blue Clover Eventing
BEGIN:VTIMEZONE
TZID:UTC
BEGIN:STANDARD
TZOFFSETFROM:+0000
TZOFFSETTO:+0000
TZNAME:UTC
DTSTART:20210101T000000
END:STANDARD
END:VTIMEZONE
BEGIN:VEVENT
DTSTART;VALUE=DATE:20210702
DTEND;VALUE=DATE:20210705
DTSTAMP:20260426T004927
CREATED:20210708T173434Z
LAST-MODIFIED:20210708T173434Z
UID:26947-1625184000-1625443199@www.blueclovereventing.com
SUMMARY:The Maryland International & Horse Trials
DESCRIPTION:
URL:https://www.blueclovereventing.com/event/the-maryland-international-horse-trials-2/
LOCATION:Loch Moy Farm\, 1235 Park Mills Rd\, Adamstown\, MD\, 21710\, United States
CATEGORIES:Competitions
END:VEVENT
END:VCALENDAR