BEGIN:VCALENDAR
VERSION:2.0
PRODID:-//Blue Clover Eventing - ECPv5.16.1.1//NONSGML v1.0//EN
CALSCALE:GREGORIAN
METHOD:PUBLISH
X-WR-CALNAME:Blue Clover Eventing
X-ORIGINAL-URL:https://www.blueclovereventing.com
X-WR-CALDESC:Events for Blue Clover Eventing
BEGIN:VTIMEZONE
TZID:UTC
BEGIN:STANDARD
TZOFFSETFROM:+0000
TZOFFSETTO:+0000
TZNAME:UTC
DTSTART:20240101T000000
END:STANDARD
END:VTIMEZONE
BEGIN:VEVENT
DTSTART;VALUE=DATE:20240914
DTEND;VALUE=DATE:20240915
DTSTAMP:20260423T221749
CREATED:20240506T161733Z
LAST-MODIFIED:20240506T161733Z
UID:27252-1726272000-1726358399@www.blueclovereventing.com
SUMMARY:Marlborough H.T.
DESCRIPTION:
URL:https://www.blueclovereventing.com/event/marlborough-h-t/
CATEGORIES:Competitions
END:VEVENT
END:VCALENDAR