BEGIN:VCALENDAR
VERSION:2.0
PRODID:-//Blue Clover Eventing - ECPv5.16.1.1//NONSGML v1.0//EN
CALSCALE:GREGORIAN
METHOD:PUBLISH
X-WR-CALNAME:Blue Clover Eventing
X-ORIGINAL-URL:https://www.blueclovereventing.com
X-WR-CALDESC:Events for Blue Clover Eventing
BEGIN:VTIMEZONE
TZID:UTC
BEGIN:STANDARD
TZOFFSETFROM:+0000
TZOFFSETTO:+0000
TZNAME:UTC
DTSTART:20210101T000000
END:STANDARD
END:VTIMEZONE
BEGIN:VEVENT
DTSTART;VALUE=DATE:20210715
DTEND;VALUE=DATE:20210716
DTSTAMP:20260426T034628
CREATED:20210708T173917Z
LAST-MODIFIED:20210708T173917Z
UID:26954-1626307200-1626393599@www.blueclovereventing.com
SUMMARY:Waredaca Taproom Thursday Schooling Show
DESCRIPTION:
URL:https://www.blueclovereventing.com/event/waredaca-taproom-thursday-schooling-show-2/
LOCATION:Waredaca\, 4015 Damascus Rd\, Laytonsville\, MD\, 20882\, United States
CATEGORIES:Competitions
END:VEVENT
END:VCALENDAR