BEGIN:VCALENDAR
VERSION:2.0
PRODID:-//Blue Clover Eventing - ECPv5.16.1.1//NONSGML v1.0//EN
CALSCALE:GREGORIAN
METHOD:PUBLISH
X-WR-CALNAME:Blue Clover Eventing
X-ORIGINAL-URL:https://www.blueclovereventing.com
X-WR-CALDESC:Events for Blue Clover Eventing
BEGIN:VTIMEZONE
TZID:UTC
BEGIN:STANDARD
TZOFFSETFROM:+0000
TZOFFSETTO:+0000
TZNAME:UTC
DTSTART:20210101T000000
END:STANDARD
END:VTIMEZONE
BEGIN:VEVENT
DTSTART;VALUE=DATE:20210501
DTEND;VALUE=DATE:20210503
DTSTAMP:20260425T151539
CREATED:20210325T175937Z
LAST-MODIFIED:20210325T175937Z
UID:26923-1619827200-1619999999@www.blueclovereventing.com
SUMMARY:Waredaca Horse Trials
DESCRIPTION:
URL:https://www.blueclovereventing.com/event/waredaca-horse-trials-4/
END:VEVENT
END:VCALENDAR