BEGIN:VCALENDAR
VERSION:2.0
PRODID:-//Blue Clover Eventing - ECPv5.16.1.1//NONSGML v1.0//EN
CALSCALE:GREGORIAN
METHOD:PUBLISH
X-WR-CALNAME:Blue Clover Eventing
X-ORIGINAL-URL:https://www.blueclovereventing.com
X-WR-CALDESC:Events for Blue Clover Eventing
BEGIN:VTIMEZONE
TZID:Europe/Paris
BEGIN:DAYLIGHT
TZOFFSETFROM:+0100
TZOFFSETTO:+0200
TZNAME:CEST
DTSTART:20240331T010000
END:DAYLIGHT
BEGIN:STANDARD
TZOFFSETFROM:+0200
TZOFFSETTO:+0100
TZNAME:CET
DTSTART:20241027T010000
END:STANDARD
END:VTIMEZONE
BEGIN:VEVENT
DTSTART;VALUE=DATE:20240816
DTEND;VALUE=DATE:20240819
DTSTAMP:20260422T181533
CREATED:20240506T161430Z
LAST-MODIFIED:20240506T161430Z
UID:27246-1723766400-1724025599@www.blueclovereventing.com
SUMMARY:Waredaca Farm H.T.
DESCRIPTION:
URL:https://www.blueclovereventing.com/event/waredaca-farm-h-t/
LOCATION:Waredaca\, 4015 Damascus Rd\, Laytonsville\, MD\, 20882\, United States
CATEGORIES:Competitions
END:VEVENT
END:VCALENDAR