BEGIN:VCALENDAR
VERSION:2.0
PRODID:-//Blue Clover Eventing - ECPv5.16.1.1//NONSGML v1.0//EN
CALSCALE:GREGORIAN
METHOD:PUBLISH
X-WR-CALNAME:Blue Clover Eventing
X-ORIGINAL-URL:https://www.blueclovereventing.com
X-WR-CALDESC:Events for Blue Clover Eventing
BEGIN:VTIMEZONE
TZID:UTC
BEGIN:STANDARD
TZOFFSETFROM:+0000
TZOFFSETTO:+0000
TZNAME:UTC
DTSTART:20240101T000000
END:STANDARD
END:VTIMEZONE
BEGIN:VEVENT
DTSTART;VALUE=DATE:20241031
DTEND;VALUE=DATE:20241104
DTSTAMP:20260423T045628
CREATED:20240506T162303Z
LAST-MODIFIED:20240506T162303Z
UID:27267-1730332800-1730678399@www.blueclovereventing.com
SUMMARY:Tryon International H.T.
DESCRIPTION:
URL:https://www.blueclovereventing.com/event/tryon-international-h-t/
LOCATION:Tryon International Equestrian Center\, 25 International Blvd\, Mill Spring\, NC\, 28756\, United States
CATEGORIES:Competitions
END:VEVENT
END:VCALENDAR