BEGIN:VCALENDAR
VERSION:2.0
PRODID:-//Blue Clover Eventing - ECPv5.16.1.1//NONSGML v1.0//EN
CALSCALE:GREGORIAN
METHOD:PUBLISH
X-WR-CALNAME:Blue Clover Eventing
X-ORIGINAL-URL:https://www.blueclovereventing.com
X-WR-CALDESC:Events for Blue Clover Eventing
BEGIN:VTIMEZONE
TZID:UTC
BEGIN:STANDARD
TZOFFSETFROM:+0000
TZOFFSETTO:+0000
TZNAME:UTC
DTSTART:20210101T000000
END:STANDARD
END:VTIMEZONE
BEGIN:VEVENT
DTSTART;VALUE=DATE:20210402
DTEND;VALUE=DATE:20210405
DTSTAMP:20260425T204855
CREATED:20210118T151600Z
LAST-MODIFIED:20210118T151600Z
UID:26899-1617321600-1617580799@www.blueclovereventing.com
SUMMARY:The Fork at TIEC
DESCRIPTION:
URL:https://www.blueclovereventing.com/event/the-fork-at-tiec/
END:VEVENT
END:VCALENDAR