BEGIN:VCALENDAR
VERSION:2.0
PRODID:-//Blue Clover Eventing - ECPv5.16.1.1//NONSGML v1.0//EN
CALSCALE:GREGORIAN
METHOD:PUBLISH
X-WR-CALNAME:Blue Clover Eventing
X-ORIGINAL-URL:https://www.blueclovereventing.com
X-WR-CALDESC:Events for Blue Clover Eventing
BEGIN:VTIMEZONE
TZID:UTC
BEGIN:STANDARD
TZOFFSETFROM:+0000
TZOFFSETTO:+0000
TZNAME:UTC
DTSTART:20230101T000000
END:STANDARD
END:VTIMEZONE
BEGIN:VEVENT
DTSTART;VALUE=DATE:20230331
DTEND;VALUE=DATE:20230403
DTSTAMP:20260423T133023
CREATED:20230112T195312Z
LAST-MODIFIED:20230112T195312Z
UID:27187-1680220800-1680479999@www.blueclovereventing.com
SUMMARY:The Event at TerraNova
DESCRIPTION:31625 Clay Gully Rd\nMyakka City\, FL 34251
URL:https://www.blueclovereventing.com/event/the-event-at-terranova/
CATEGORIES:Competitions
END:VEVENT
END:VCALENDAR