BEGIN:VCALENDAR
VERSION:2.0
PRODID:-//Blue Clover Eventing - ECPv5.16.1.1//NONSGML v1.0//EN
CALSCALE:GREGORIAN
METHOD:PUBLISH
X-WR-CALNAME:Blue Clover Eventing
X-ORIGINAL-URL:https://www.blueclovereventing.com
X-WR-CALDESC:Events for Blue Clover Eventing
BEGIN:VTIMEZONE
TZID:UTC
BEGIN:STANDARD
TZOFFSETFROM:+0000
TZOFFSETTO:+0000
TZNAME:UTC
DTSTART:20210101T000000
END:STANDARD
END:VTIMEZONE
BEGIN:VEVENT
DTSTART;VALUE=DATE:20210828
DTEND;VALUE=DATE:20210830
DTSTAMP:20260424T185307
CREATED:20210708T174819Z
LAST-MODIFIED:20210708T174819Z
UID:26967-1630108800-1630281599@www.blueclovereventing.com
SUMMARY:Seneca Valley Pony Club Horse Trials
DESCRIPTION:
URL:https://www.blueclovereventing.com/event/seneca-valley-pony-club-horse-trials/
LOCATION:Bittersweet Field\, 14401B Partnership Rd\, Poolesville\, MD\, 20837\, United States
CATEGORIES:Competitions
END:VEVENT
END:VCALENDAR