BEGIN:VCALENDAR
VERSION:2.0
PRODID:-//Blue Clover Eventing - ECPv5.16.1.1//NONSGML v1.0//EN
CALSCALE:GREGORIAN
METHOD:PUBLISH
X-WR-CALNAME:Blue Clover Eventing
X-ORIGINAL-URL:https://www.blueclovereventing.com
X-WR-CALDESC:Events for Blue Clover Eventing
BEGIN:VTIMEZONE
TZID:UTC
BEGIN:STANDARD
TZOFFSETFROM:+0000
TZOFFSETTO:+0000
TZNAME:UTC
DTSTART:20220101T000000
END:STANDARD
END:VTIMEZONE
BEGIN:VEVENT
DTSTART;VALUE=DATE:20220217
DTEND;VALUE=DATE:20220221
DTSTAMP:20260424T091643
CREATED:20211230T232105Z
LAST-MODIFIED:20211230T232105Z
UID:27007-1645056000-1645401599@www.blueclovereventing.com
SUMMARY:Rocking Horse Winter II Advanced H.T.
DESCRIPTION:
URL:https://www.blueclovereventing.com/event/rocking-horse-winter-ii-advanced-h-t/
LOCATION:Rocking Horse Stables\, 44200 S.R. 19 N\, Altoona\, FL\, 32702\, United States
CATEGORIES:Competitions
END:VEVENT
END:VCALENDAR