BEGIN:VCALENDAR
VERSION:2.0
PRODID:-//Blue Clover Eventing - ECPv5.16.1.1//NONSGML v1.0//EN
CALSCALE:GREGORIAN
METHOD:PUBLISH
X-WR-CALNAME:Blue Clover Eventing
X-ORIGINAL-URL:https://www.blueclovereventing.com
X-WR-CALDESC:Events for Blue Clover Eventing
BEGIN:VTIMEZONE
TZID:UTC
BEGIN:STANDARD
TZOFFSETFROM:+0000
TZOFFSETTO:+0000
TZNAME:UTC
DTSTART:20230101T000000
END:STANDARD
END:VTIMEZONE
BEGIN:VEVENT
DTSTART;VALUE=DATE:20230224
DTEND;VALUE=DATE:20230227
DTSTAMP:20260423T181021
CREATED:20230112T195000Z
LAST-MODIFIED:20230112T195000Z
UID:27181-1677196800-1677455999@www.blueclovereventing.com
SUMMARY:Pine Top Advanced Horse Trials
DESCRIPTION:1432 Augusta Rd\, Thomson\, GA 30824
URL:https://www.blueclovereventing.com/event/pine-top-advanced-horse-trials-2/
CATEGORIES:Competitions
END:VEVENT
END:VCALENDAR