BEGIN:VCALENDAR
VERSION:2.0
PRODID:-//Blue Clover Eventing - ECPv5.16.1.1//NONSGML v1.0//EN
CALSCALE:GREGORIAN
METHOD:PUBLISH
X-WR-CALNAME:Blue Clover Eventing
X-ORIGINAL-URL:https://www.blueclovereventing.com
X-WR-CALDESC:Events for Blue Clover Eventing
BEGIN:VTIMEZONE
TZID:UTC
BEGIN:STANDARD
TZOFFSETFROM:+0000
TZOFFSETTO:+0000
TZNAME:UTC
DTSTART:20240101T000000
END:STANDARD
END:VTIMEZONE
BEGIN:VEVENT
DTSTART;VALUE=DATE:20240725
DTEND;VALUE=DATE:20240729
DTSTAMP:20260422T221502
CREATED:20240506T161005Z
LAST-MODIFIED:20240506T161200Z
UID:27239-1721865600-1722211199@www.blueclovereventing.com
SUMMARY:Millbrook H.T.
DESCRIPTION:
URL:https://www.blueclovereventing.com/event/millbrook-h-t/
LOCATION:Millbrook H.T.\, 1031 Bangall-Amenia Road\, Amenia\, NY\, 12501\, United States
CATEGORIES:Competitions
END:VEVENT
END:VCALENDAR