BEGIN:VCALENDAR
VERSION:2.0
PRODID:-//Blue Clover Eventing - ECPv5.16.1.1//NONSGML v1.0//EN
CALSCALE:GREGORIAN
METHOD:PUBLISH
X-WR-CALNAME:Blue Clover Eventing
X-ORIGINAL-URL:https://www.blueclovereventing.com
X-WR-CALDESC:Events for Blue Clover Eventing
BEGIN:VTIMEZONE
TZID:UTC
BEGIN:STANDARD
TZOFFSETFROM:+0000
TZOFFSETTO:+0000
TZNAME:UTC
DTSTART:20240101T000000
END:STANDARD
END:VTIMEZONE
BEGIN:VEVENT
DTSTART;VALUE=DATE:20240608
DTEND;VALUE=DATE:20240610
DTSTAMP:20260423T083817
CREATED:20240506T155712Z
LAST-MODIFIED:20240506T155712Z
UID:27220-1717804800-1717977599@www.blueclovereventing.com
SUMMARY:Middleburg H.T.
DESCRIPTION:
URL:https://www.blueclovereventing.com/event/middleburg-h-t/
LOCATION:Great Meadow Foundation\, 5089 Old Tavern Road\, The Plains\, 20198\, United States
CATEGORIES:Competitions
END:VEVENT
END:VCALENDAR