BEGIN:VCALENDAR
VERSION:2.0
PRODID:-//Blue Clover Eventing - ECPv5.16.1.1//NONSGML v1.0//EN
CALSCALE:GREGORIAN
METHOD:PUBLISH
X-WR-CALNAME:Blue Clover Eventing
X-ORIGINAL-URL:https://www.blueclovereventing.com
X-WR-CALDESC:Events for Blue Clover Eventing
BEGIN:VTIMEZONE
TZID:UTC
BEGIN:STANDARD
TZOFFSETFROM:+0000
TZOFFSETTO:+0000
TZNAME:UTC
DTSTART:20210101T000000
END:STANDARD
END:VTIMEZONE
BEGIN:VEVENT
DTSTART;VALUE=DATE:20210419
DTEND;VALUE=DATE:20210426
DTSTAMP:20260425T164139
CREATED:20210325T175914Z
LAST-MODIFIED:20210325T175914Z
UID:26921-1618790400-1619395199@www.blueclovereventing.com
SUMMARY:Land Rover Kentucky 5*
DESCRIPTION:
URL:https://www.blueclovereventing.com/event/land-rover-kentucky-5/
END:VEVENT
END:VCALENDAR