BEGIN:VCALENDAR
VERSION:2.0
PRODID:-//Blue Clover Eventing - ECPv5.16.1.1//NONSGML v1.0//EN
CALSCALE:GREGORIAN
METHOD:PUBLISH
X-WR-CALNAME:Blue Clover Eventing
X-ORIGINAL-URL:https://www.blueclovereventing.com
X-WR-CALDESC:Events for Blue Clover Eventing
BEGIN:VTIMEZONE
TZID:UTC
BEGIN:STANDARD
TZOFFSETFROM:+0000
TZOFFSETTO:+0000
TZNAME:UTC
DTSTART:20240101T000000
END:STANDARD
END:VTIMEZONE
BEGIN:VEVENT
DTSTART;VALUE=DATE:20240626
DTEND;VALUE=DATE:20240627
DTSTAMP:20260423T053925
CREATED:20240506T155908Z
LAST-MODIFIED:20240506T155908Z
UID:27226-1719360000-1719446399@www.blueclovereventing.com
SUMMARY:Jumpers at Plantation Field
DESCRIPTION:
URL:https://www.blueclovereventing.com/event/jumpers-at-plantation-field/
LOCATION:Plantation Field\, 319-321 Apple Grove Rd.\, Unionville\, PA\, 19320\, United States
CATEGORIES:Competitions
END:VEVENT
END:VCALENDAR