BEGIN:VCALENDAR
VERSION:2.0
PRODID:-//Blue Clover Eventing - ECPv5.16.1.1//NONSGML v1.0//EN
CALSCALE:GREGORIAN
METHOD:PUBLISH
X-WR-CALNAME:Blue Clover Eventing
X-ORIGINAL-URL:https://www.blueclovereventing.com
X-WR-CALDESC:Events for Blue Clover Eventing
BEGIN:VTIMEZONE
TZID:UTC
BEGIN:STANDARD
TZOFFSETFROM:+0000
TZOFFSETTO:+0000
TZNAME:UTC
DTSTART:20240101T000000
END:STANDARD
END:VTIMEZONE
BEGIN:VEVENT
DTSTART;VALUE=DATE:20240724
DTEND;VALUE=DATE:20240725
DTSTAMP:20260422T234013
CREATED:20240506T160721Z
LAST-MODIFIED:20240506T160721Z
UID:27237-1721779200-1721865599@www.blueclovereventing.com
SUMMARY:Jumpers at Plantation Field
DESCRIPTION:
URL:https://www.blueclovereventing.com/event/jumpers-at-plantation-field-2/
LOCATION:Plantation Field\, 319-321 Apple Grove Rd.\, Unionville\, PA\, 19320\, United States
CATEGORIES:Competitions
END:VEVENT
END:VCALENDAR