BEGIN:VCALENDAR
VERSION:2.0
PRODID:-//Blue Clover Eventing - ECPv5.16.1.1//NONSGML v1.0//EN
CALSCALE:GREGORIAN
METHOD:PUBLISH
X-WR-CALNAME:Blue Clover Eventing
X-ORIGINAL-URL:https://www.blueclovereventing.com
X-WR-CALDESC:Events for Blue Clover Eventing
BEGIN:VTIMEZONE
TZID:UTC
BEGIN:STANDARD
TZOFFSETFROM:+0000
TZOFFSETTO:+0000
TZNAME:UTC
DTSTART:20210101T000000
END:STANDARD
END:VTIMEZONE
BEGIN:VEVENT
DTSTART;VALUE=DATE:20210515
DTEND;VALUE=DATE:20210517
DTSTAMP:20260425T123639
CREATED:20210325T180001Z
LAST-MODIFIED:20210325T180001Z
UID:26926-1621036800-1621209599@www.blueclovereventing.com
SUMMARY:Fair Hill May CCI & Horse Trials
DESCRIPTION:
URL:https://www.blueclovereventing.com/event/fair-hill-may-cci-horse-trials/
END:VEVENT
END:VCALENDAR