BEGIN:VCALENDAR
VERSION:2.0
PRODID:-//Blue Clover Eventing - ECPv5.16.1.1//NONSGML v1.0//EN
CALSCALE:GREGORIAN
METHOD:PUBLISH
X-WR-CALNAME:Blue Clover Eventing
X-ORIGINAL-URL:https://www.blueclovereventing.com
X-WR-CALDESC:Events for Blue Clover Eventing
BEGIN:VTIMEZONE
TZID:UTC
BEGIN:STANDARD
TZOFFSETFROM:+0000
TZOFFSETTO:+0000
TZNAME:UTC
DTSTART:20240101T000000
END:STANDARD
END:VTIMEZONE
BEGIN:VEVENT
DTSTART;VALUE=DATE:20240518
DTEND;VALUE=DATE:20240520
DTSTAMP:20260423T100733
CREATED:20240506T155410Z
LAST-MODIFIED:20240506T155410Z
UID:27218-1715990400-1716163199@www.blueclovereventing.com
SUMMARY:Fair Hill International
DESCRIPTION:
URL:https://www.blueclovereventing.com/event/fair-hill-international/
LOCATION:Fair Hill International\, 378 Fair Hill Dr\, Elkton\, MD\, 21921\, United States
CATEGORIES:Competitions
END:VEVENT
END:VCALENDAR