BEGIN:VCALENDAR
VERSION:2.0
PRODID:-//Blue Clover Eventing - ECPv5.16.1.1//NONSGML v1.0//EN
CALSCALE:GREGORIAN
METHOD:PUBLISH
X-WR-CALNAME:Blue Clover Eventing
X-ORIGINAL-URL:https://www.blueclovereventing.com
X-WR-CALDESC:Events for Blue Clover Eventing
BEGIN:VTIMEZONE
TZID:UTC
BEGIN:STANDARD
TZOFFSETFROM:+0000
TZOFFSETTO:+0000
TZNAME:UTC
DTSTART:20220101T000000
END:STANDARD
END:VTIMEZONE
BEGIN:VEVENT
DTSTART;VALUE=DATE:20220415
DTEND;VALUE=DATE:20220418
DTSTAMP:20260423T223432
CREATED:20211230T233434Z
LAST-MODIFIED:20211230T233434Z
UID:27029-1649980800-1650239999@www.blueclovereventing.com
SUMMARY:Fair Hill International April H.T. & CCI-S
DESCRIPTION:
URL:https://www.blueclovereventing.com/event/fair-hill-international-april-h-t-cci-s/
LOCATION:Fair Hill International\, 378 Fair Hill Dr\, Elkton\, MD\, 21921\, United States
CATEGORIES:Competitions
END:VEVENT
END:VCALENDAR