BEGIN:VCALENDAR
VERSION:2.0
PRODID:-//Blue Clover Eventing - ECPv5.16.1.1//NONSGML v1.0//EN
CALSCALE:GREGORIAN
METHOD:PUBLISH
X-WR-CALNAME:Blue Clover Eventing
X-ORIGINAL-URL:https://www.blueclovereventing.com
X-WR-CALDESC:Events for Blue Clover Eventing
BEGIN:VTIMEZONE
TZID:UTC
BEGIN:STANDARD
TZOFFSETFROM:+0000
TZOFFSETTO:+0000
TZNAME:UTC
DTSTART:20210101T000000
END:STANDARD
END:VTIMEZONE
BEGIN:VEVENT
DTSTART;VALUE=DATE:20210409
DTEND;VALUE=DATE:20210412
DTSTAMP:20260425T193513
CREATED:20210325T175827Z
LAST-MODIFIED:20210325T175827Z
UID:26916-1617926400-1618185599@www.blueclovereventing.com
SUMMARY:Fair Hill April CCI & Horse Trials
DESCRIPTION:
URL:https://www.blueclovereventing.com/event/fair-hill-april-cci-horse-trials/
END:VEVENT
END:VCALENDAR