BEGIN:VCALENDAR
VERSION:2.0
PRODID:-//Blue Clover Eventing - ECPv5.16.1.1//NONSGML v1.0//EN
CALSCALE:GREGORIAN
METHOD:PUBLISH
X-WR-CALNAME:Blue Clover Eventing
X-ORIGINAL-URL:https://www.blueclovereventing.com
X-WR-CALDESC:Events for Blue Clover Eventing
BEGIN:VTIMEZONE
TZID:UTC
BEGIN:STANDARD
TZOFFSETFROM:+0000
TZOFFSETTO:+0000
TZNAME:UTC
DTSTART:20240101T000000
END:STANDARD
END:VTIMEZONE
BEGIN:VEVENT
DTSTART;VALUE=DATE:20240710
DTEND;VALUE=DATE:20240711
DTSTAMP:20260423T031820
CREATED:20240506T160419Z
LAST-MODIFIED:20240506T160419Z
UID:27230-1720569600-1720655999@www.blueclovereventing.com
SUMMARY:Dressage at Plantation Field
DESCRIPTION:
URL:https://www.blueclovereventing.com/event/dressage-at-plantation-field/
LOCATION:Plantation Field\, 319-321 Apple Grove Rd.\, Unionville\, PA\, 19320\, United States
CATEGORIES:Competitions
END:VEVENT
END:VCALENDAR