BEGIN:VCALENDAR
VERSION:2.0
PRODID:-//Blue Clover Eventing - ECPv5.16.1.1//NONSGML v1.0//EN
CALSCALE:GREGORIAN
METHOD:PUBLISH
X-WR-CALNAME:Blue Clover Eventing
X-ORIGINAL-URL:https://www.blueclovereventing.com
X-WR-CALDESC:Events for Blue Clover Eventing
BEGIN:VTIMEZONE
TZID:UTC
BEGIN:STANDARD
TZOFFSETFROM:+0000
TZOFFSETTO:+0000
TZNAME:UTC
DTSTART:20240101T000000
END:STANDARD
END:VTIMEZONE
BEGIN:VEVENT
DTSTART;VALUE=DATE:20241025
DTEND;VALUE=DATE:20241028
DTSTAMP:20260423T044402
CREATED:20240506T162233Z
LAST-MODIFIED:20240506T162233Z
UID:27264-1729814400-1730073599@www.blueclovereventing.com
SUMMARY:Bouckaert Equestrian H.T. International
DESCRIPTION:
URL:https://www.blueclovereventing.com/event/bouckaert-equestrian-h-t-international/
LOCATION:Bouckaert Equestrian\, 10045 Cedar Grove Road\, Fairburn\, GA\, 30213\, United States
CATEGORIES:Judging
END:VEVENT
END:VCALENDAR