BEGIN:VCALENDAR
VERSION:2.0
PRODID:-//Blue Clover Eventing - ECPv5.16.1.1//NONSGML v1.0//EN
CALSCALE:GREGORIAN
METHOD:PUBLISH
X-WR-CALNAME:Blue Clover Eventing
X-ORIGINAL-URL:https://www.blueclovereventing.com
X-WR-CALDESC:Events for Blue Clover Eventing
BEGIN:VTIMEZONE
TZID:UTC
BEGIN:STANDARD
TZOFFSETFROM:+0000
TZOFFSETTO:+0000
TZNAME:UTC
DTSTART:20240101T000000
END:STANDARD
END:VTIMEZONE
BEGIN:VEVENT
DTSTART;VALUE=DATE:20240614
DTEND;VALUE=DATE:20240617
DTSTAMP:20260423T070912
CREATED:20240506T155836Z
LAST-MODIFIED:20240506T155836Z
UID:27223-1718323200-1718582399@www.blueclovereventing.com
SUMMARY:Aspen Farm June H.T.
DESCRIPTION:
URL:https://www.blueclovereventing.com/event/aspen-farm-june-h-t/
LOCATION:Aspen Fam\, 13042 Morris Rd\, Yelm\, 98597\, United States
CATEGORIES:Judging
END:VEVENT
END:VCALENDAR